BEGIN:VCALENDAR
VERSION:2.0
PRODID:-//Dharma Realm Buddhist University - ECPv6.15.20//NONSGML v1.0//EN
CALSCALE:GREGORIAN
METHOD:PUBLISH
X-WR-CALNAME:Dharma Realm Buddhist University
X-ORIGINAL-URL:https://www.drbu.edu
X-WR-CALDESC:Events for Dharma Realm Buddhist University
REFRESH-INTERVAL;VALUE=DURATION:PT1H
X-Robots-Tag:noindex
X-PUBLISHED-TTL:PT1H
BEGIN:VTIMEZONE
TZID:America/Los_Angeles
BEGIN:DAYLIGHT
TZOFFSETFROM:-0800
TZOFFSETTO:-0700
TZNAME:PDT
DTSTART:20170312T100000
END:DAYLIGHT
BEGIN:STANDARD
TZOFFSETFROM:-0700
TZOFFSETTO:-0800
TZNAME:PST
DTSTART:20171105T090000
END:STANDARD
BEGIN:DAYLIGHT
TZOFFSETFROM:-0800
TZOFFSETTO:-0700
TZNAME:PDT
DTSTART:20180311T100000
END:DAYLIGHT
BEGIN:STANDARD
TZOFFSETFROM:-0700
TZOFFSETTO:-0800
TZNAME:PST
DTSTART:20181104T090000
END:STANDARD
BEGIN:DAYLIGHT
TZOFFSETFROM:-0800
TZOFFSETTO:-0700
TZNAME:PDT
DTSTART:20190310T100000
END:DAYLIGHT
BEGIN:STANDARD
TZOFFSETFROM:-0700
TZOFFSETTO:-0800
TZNAME:PST
DTSTART:20191103T090000
END:STANDARD
END:VTIMEZONE
BEGIN:VEVENT
DTSTART;TZID=America/Los_Angeles:20181126T080000
DTEND;TZID=America/Los_Angeles:20181126T170000
DTSTAMP:20260425T062315
CREATED:20231020T161643Z
LAST-MODIFIED:20231020T161643Z
UID:4785-1543219200-1543251600@www.drbu.edu
SUMMARY:Creativity\, Music\, & Spirit: A Conversation with Alex de Grassi
DESCRIPTION:Date: Monday\, November 26\, 2018\nTime: 7:45-9pm\nLocation: DRBU Southwing – 2nd Floor Student Lounge \nAlex de Grassi\, contemporary guitarist\, composer and one of Mendocino County’s own musical luminaries will join with the Dharma Realm Buddhist University community to explore the sources of musical inspiration and sustaining a lifetime of artistic creativity. \nWe encourage students\, faculty\, and staff to come with questions\, such as “where does the impulse for composing arise?” or “how do you make it through dry spells in creativity?” or “do you ever in performance feel that you transcend the music and if so\, what are the conditions that create the state and that end the state?”- or any other similar inquiries 🙂 \nHere is a brief video of Alex de Grassi introducing his custom signature Lowden guitar\, which he will be bringing to DRBU next week. Alex’s artistic sensitivity is viscerally conveyed as he explains what he looks for in an instrument.
URL:https://www.drbu.edu/event/creativity-music-spirit-a-conversation-with-alex-de-grassi/
CATEGORIES:Colloquium Lecture Series
END:VEVENT
END:VCALENDAR